BEGIN:VCALENDAR
VERSION:2.0
PRODID:-//Sandia Nordic Ski Club - ECPv6.15.20//NONSGML v1.0//EN
CALSCALE:GREGORIAN
METHOD:PUBLISH
X-WR-CALNAME:Sandia Nordic Ski Club
X-ORIGINAL-URL:https://sandianordic.org
X-WR-CALDESC:Events for Sandia Nordic Ski Club
REFRESH-INTERVAL;VALUE=DURATION:PT1H
X-Robots-Tag:noindex
X-PUBLISHED-TTL:PT1H
BEGIN:VTIMEZONE
TZID:America/Denver
BEGIN:DAYLIGHT
TZOFFSETFROM:-0700
TZOFFSETTO:-0600
TZNAME:MDT
DTSTART:20240310T090000
END:DAYLIGHT
BEGIN:STANDARD
TZOFFSETFROM:-0600
TZOFFSETTO:-0700
TZNAME:MST
DTSTART:20241103T080000
END:STANDARD
BEGIN:DAYLIGHT
TZOFFSETFROM:-0700
TZOFFSETTO:-0600
TZNAME:MDT
DTSTART:20250309T090000
END:DAYLIGHT
BEGIN:STANDARD
TZOFFSETFROM:-0600
TZOFFSETTO:-0700
TZNAME:MST
DTSTART:20251102T080000
END:STANDARD
BEGIN:DAYLIGHT
TZOFFSETFROM:-0700
TZOFFSETTO:-0600
TZNAME:MDT
DTSTART:20260308T090000
END:DAYLIGHT
BEGIN:STANDARD
TZOFFSETFROM:-0600
TZOFFSETTO:-0700
TZNAME:MST
DTSTART:20261101T080000
END:STANDARD
END:VTIMEZONE
BEGIN:VEVENT
DTSTART;TZID=America/Denver:20250111T100000
DTEND;TZID=America/Denver:20250111T120000
DTSTAMP:20260419T172700
CREATED:20250110T165251Z
LAST-MODIFIED:20250110T233553Z
UID:7319-1736589600-1736596800@sandianordic.org
SUMMARY:Sandia Nordic Intermediate Skate and Classic Clinics
DESCRIPTION:THIS EVENT HAS BEEN CANCELLED.\nIntermediate Classic and Skate Clinics for Adults.
URL:https://sandianordic.org/event/sandia-nordic-intermediate-skate-and-classic-clinics/
CATEGORIES:Sandia Nordic Clinics
ATTACH;FMTTYPE=image/jpeg:https://sandianordic.org/wp-content/uploads/2024/08/IMG_4370.jpeg
END:VEVENT
END:VCALENDAR